BEGIN:VCALENDAR
VERSION:2.0
PRODID:-//WSU Tri-Cities - ECPv6.15.15//NONSGML v1.0//EN
CALSCALE:GREGORIAN
METHOD:PUBLISH
X-WR-CALNAME:WSU Tri-Cities
X-ORIGINAL-URL:https://tricities.wsu.edu
X-WR-CALDESC:Events for WSU Tri-Cities
REFRESH-INTERVAL;VALUE=DURATION:PT1H
X-Robots-Tag:noindex
X-PUBLISHED-TTL:PT1H
BEGIN:VTIMEZONE
TZID:America/Los_Angeles
BEGIN:DAYLIGHT
TZOFFSETFROM:-0800
TZOFFSETTO:-0700
TZNAME:PDT
DTSTART:20220313T100000
END:DAYLIGHT
BEGIN:STANDARD
TZOFFSETFROM:-0700
TZOFFSETTO:-0800
TZNAME:PST
DTSTART:20221106T090000
END:STANDARD
BEGIN:DAYLIGHT
TZOFFSETFROM:-0800
TZOFFSETTO:-0700
TZNAME:PDT
DTSTART:20230312T100000
END:DAYLIGHT
BEGIN:STANDARD
TZOFFSETFROM:-0700
TZOFFSETTO:-0800
TZNAME:PST
DTSTART:20231105T090000
END:STANDARD
BEGIN:DAYLIGHT
TZOFFSETFROM:-0800
TZOFFSETTO:-0700
TZNAME:PDT
DTSTART:20240310T100000
END:DAYLIGHT
BEGIN:STANDARD
TZOFFSETFROM:-0700
TZOFFSETTO:-0800
TZNAME:PST
DTSTART:20241103T090000
END:STANDARD
END:VTIMEZONE
BEGIN:VEVENT
DTSTART;VALUE=DATE:20230117
DTEND;VALUE=DATE:20230118
DTSTAMP:20260425T141232
CREATED:20230114T011122Z
LAST-MODIFIED:20230114T011159Z
UID:112463-1673913600-1673999999@tricities.wsu.edu
SUMMARY:National Day of Racial Healing
DESCRIPTION:[vc_row css_animation=”” row_type=”row” use_row_as_full_screen_section=”no” type=”full_width” angled_section=”no” text_align=”left” background_image_as_pattern=”without_pattern”][vc_column][vc_column_text]“Racial healing is at the heart of racial equity. Racism affects all of us\, whether we are aware of it or not. It affects our ability to know\, relate to and value one another. Embedded in every one of our systems\, racism is one of the biggest obstacles to solving the challenges we face in our communities. \nCreating a brighter future starts with racial healing – a process that restores individuals and communities to wholeness. It’s about bringing communities together; building relationships based on truth-telling\, trust and mutual respect; and laying the groundwork to take transformative action together.” \n– W.K Kellogg Foundation’s Truth\, Racial Healing\, and Transformation[/vc_column_text][/vc_column][/vc_row][vc_row css_animation=”” row_type=”row” use_row_as_full_screen_section=”no” type=”full_width” angled_section=”no” text_align=”left” background_image_as_pattern=”without_pattern”][vc_column][vc_column_text]Here at Washington State University\, we intend to leverage the National Day of Racial Healing framework to help us as a university community develop critical and reflexive thinking that directly supports culturally and racially non-harming\, compassionate\, and ethical practices towards ourselves and towards our collective learning. \nParticipation in the National Day of Racial Healing is not meant to isolate our efforts to a single day. Rather\, it is meant as a catalyst for sustained engagement with racial healing over time\, both inside and outside of the classroom.[/vc_column_text][/vc_column][/vc_row][vc_row css_animation=”” row_type=”row” use_row_as_full_screen_section=”no” type=”full_width” angled_section=”no” text_align=”left” background_image_as_pattern=”without_pattern”][vc_column][vc_empty_space][/vc_column][/vc_row][vc_row css_animation=”” row_type=”row” use_row_as_full_screen_section=”no” type=”full_width” angled_section=”no” text_align=”left” background_image_as_pattern=”without_pattern”][vc_column]WSU Tri-Cities National Day of Racial Healing Schedule[/vc_column][/vc_row]
URL:https://tricities.wsu.edu/event/national-day-of-racial-healing/
LOCATION:WSU Tri-Cities\, 2710 Crimson Way\, Richland\, WA\, 99354\, United States
CATEGORIES:Calendar,MOSAIC Center
ORGANIZER;CN="WSU Tri-Cities":MAILTO:tricities.info@wsu.edu
END:VEVENT
BEGIN:VEVENT
DTSTART;TZID=America/Los_Angeles:20230118T160000
DTEND;TZID=America/Los_Angeles:20230118T170000
DTSTAMP:20260425T141232
CREATED:20230105T190842Z
LAST-MODIFIED:20230106T000516Z
UID:112287-1674057600-1674061200@tricities.wsu.edu
SUMMARY:Pathway to Teaching Virtual Info Session
DESCRIPTION:[vc_row css_animation=”” row_type=”row” use_row_as_full_screen_section=”no” type=”full_width” angled_section=”no” text_align=”left” background_image_as_pattern=”without_pattern”][vc_column][vc_row_inner row_type=”row” type=”full_width” text_align=”left” css_animation=””][vc_column_inner width=”1/2″][vc_column_text] \nReady to make a change?\nGain insight into the application process and next steps for: \n\n\n\nAlternative Route to Certification\nMaster in Teaching\n\n\n\n[/vc_column_text][vc_separator type=”normal”]Join Zoom Call[vc_column_text]Join from PC\, Mac\, Linux\, iOS\, or Android: https://wsu.zoom.us/j/2973812080 \nMeeting ID: 297 381 2080\n\n[/vc_column_text][vc_separator type=”normal”][/vc_column_inner][vc_column_inner width=”1/2″][vc_single_image image=”105093″ img_size=”800×400″ qode_css_animation=””]Learn about other opportunities in the College of Education.Learn more![/vc_column_inner][/vc_row_inner][/vc_column][/vc_row]
URL:https://tricities.wsu.edu/event/virtual-info-session-masters-in-teaching-alternate-route-to-certification/
LOCATION:Online\, WA\, United States
CATEGORIES:Career Services,Educational Outreach & Partnerships,parents & families,student
END:VEVENT
BEGIN:VEVENT
DTSTART;TZID=America/Los_Angeles:20230118T180000
DTEND;TZID=America/Los_Angeles:20230118T180000
DTSTAMP:20260425T141232
CREATED:20230105T232925Z
LAST-MODIFIED:20230105T232925Z
UID:112306-1674064800-1674064800@tricities.wsu.edu
SUMMARY:WSU Tri-Cities Running Start Virtual Info Night
DESCRIPTION:[vc_row css_animation=”” row_type=”row” use_row_as_full_screen_section=”no” type=”full_width” angled_section=”no” text_align=”left” background_image_as_pattern=”without_pattern”][vc_column][vc_column_text]WSU Tri-Cities is hosting several virtual info nights for those interested in the Running Start program. Through Running Start\, high school students can take courses through WSU Tri-Cities at little to no cost to them.[/vc_column_text][/vc_column][/vc_row][vc_row css_animation=”” row_type=”row” use_row_as_full_screen_section=”no” type=”full_width” angled_section=”no” text_align=”left” background_image_as_pattern=”without_pattern”][vc_column][vc_column_text]More info about Running Start: tricities.wsu.edu/running-start[/vc_column_text][/vc_column][/vc_row][vc_row css_animation=”” row_type=”row” use_row_as_full_screen_section=”no” type=”full_width” angled_section=”no” text_align=”left” background_image_as_pattern=”without_pattern”][vc_column][vc_column_text]Dates:[/vc_column_text][/vc_column][/vc_row][vc_row css_animation=”” row_type=”row” use_row_as_full_screen_section=”no” type=”full_width” angled_section=”no” text_align=”left” background_image_as_pattern=”without_pattern”][vc_column][vc_column_text]January 18 | 6 p.m. \nFebruary 1 | 6 p.m. \nMarch 15 | 6 p.m.[/vc_column_text][/vc_column][/vc_row][vc_row css_animation=”” row_type=”row” use_row_as_full_screen_section=”no” type=”full_width” angled_section=”no” text_align=”left” background_image_as_pattern=”without_pattern”][vc_column]Register[/vc_column][/vc_row]
URL:https://tricities.wsu.edu/event/wsu-tri-cities-running-start-virtual-info-night/
LOCATION:Zoom\, WA\, United States
CATEGORIES:Advising,Calendar,Recruitment,Running Start
ORGANIZER;CN="WSU Tri-Cities":MAILTO:tricities.info@wsu.edu
END:VEVENT
BEGIN:VEVENT
DTSTART;TZID=America/Los_Angeles:20230125T130000
DTEND;TZID=America/Los_Angeles:20230125T150000
DTSTAMP:20260425T141232
CREATED:20230111T173551Z
LAST-MODIFIED:20230111T173725Z
UID:112388-1674651600-1674658800@tricities.wsu.edu
SUMMARY:GEAR UP Open House
DESCRIPTION:[vc_row css_animation=”” row_type=”row” use_row_as_full_screen_section=”no” type=”full_width” angled_section=”no” text_align=”left” background_image_as_pattern=”without_pattern”][vc_column][vc_column_text]We’ve settled in! Please join us to see our new location and meet our staff![/vc_column_text][/vc_column][/vc_row][vc_row css_animation=”” row_type=”row” use_row_as_full_screen_section=”no” type=”full_width” angled_section=”no” text_align=”left” background_image_as_pattern=”without_pattern”][vc_column][vc_column_text]Wednesday\, January 25th\n1 p.m. – 3 p.m.\n3100 George Washington Way[/vc_column_text][/vc_column][/vc_row][vc_row css_animation=”” row_type=”row” use_row_as_full_screen_section=”no” type=”full_width” angled_section=”no” text_align=”left” background_image_as_pattern=”without_pattern”][vc_column][vc_column_text]Light refreshments will be served. We hope to see you there![/vc_column_text][/vc_column][/vc_row]
URL:https://tricities.wsu.edu/event/gear-up-open-house/
LOCATION:Gear Up\, 3100 George Washington Way\, Richland\, WA\, 99354\, United States
CATEGORIES:Calendar,Celebration
END:VEVENT
BEGIN:VEVENT
DTSTART;TZID=America/Los_Angeles:20230126T090000
DTEND;TZID=America/Los_Angeles:20230126T130000
DTSTAMP:20260425T141232
CREATED:20221215T002307Z
LAST-MODIFIED:20221215T002323Z
UID:112106-1674723600-1674738000@tricities.wsu.edu
SUMMARY:CBC Transfer Day
DESCRIPTION:[vc_row css_animation=”” row_type=”row” use_row_as_full_screen_section=”no” type=”full_width” angled_section=”no” text_align=”left” background_image_as_pattern=”without_pattern”][vc_column][vc_column_text]WSU Tri-Cities will be visiting Columbia Basin College to answer all of your questions about applying to WSU. Stop by to chat about majors\, admission\, financial aid\, how your credits will transfer and much more! We’ll have sweet treats\, and you can sign up to win a WSU gift basket![/vc_column_text][/vc_column][/vc_row][vc_row css_animation=”” row_type=”row” use_row_as_full_screen_section=”no” type=”full_width” angled_section=”no” text_align=”left” background_image_as_pattern=”without_pattern”][vc_column][vc_column_text]Thursday\, January 26th\n9 a.m. – 1 p.m.\nCBC HUB Atrium[/vc_column_text][/vc_column][/vc_row]
URL:https://tricities.wsu.edu/event/cbc-transfer-day/
LOCATION:Columbia Basin College\, 2600 N. 20th Ave.\, Pasco\, WA\, 99301\, United States
CATEGORIES:Calendar
ORGANIZER;CN="WSU Tri-Cities":MAILTO:tricities.info@wsu.edu
END:VEVENT
BEGIN:VEVENT
DTSTART;TZID=America/Los_Angeles:20230126T180000
DTEND;TZID=America/Los_Angeles:20230126T180000
DTSTAMP:20260425T141232
CREATED:20230103T224933Z
LAST-MODIFIED:20230111T010649Z
UID:112227-1674756000-1674756000@tricities.wsu.edu
SUMMARY:Pasco High School Running Start Info Night
DESCRIPTION:[vc_row css_animation=”” row_type=”row” use_row_as_full_screen_section=”no” type=”full_width” angled_section=”no” text_align=”left” background_image_as_pattern=”without_pattern”][vc_column][vc_column_text] \n\n\nLearn more about the WSU Tri-Cities Running Start program! Through Running Start\, high school students can take courses through WSU Tri-Cities at little to no cost to them.\n\n\n[/vc_column_text][vc_empty_space][/vc_column][/vc_row][vc_row css_animation=”” row_type=”row” use_row_as_full_screen_section=”no” type=”full_width” angled_section=”no” text_align=”left” background_image_as_pattern=”without_pattern”][vc_column][vc_column_text] \n\n\nMore info about Running Start: tricities.wsu.edu/running-start\n\n\n[/vc_column_text][vc_empty_space][/vc_column][/vc_row][vc_row css_animation=”” row_type=”row” use_row_as_full_screen_section=”no” type=”full_width” angled_section=”no” text_align=”left” background_image_as_pattern=”without_pattern”][vc_column][vc_column_text] \n\n\nThursday\, January 26th\n6 p.m.\nPasco High School\n\n\n[/vc_column_text][/vc_column][/vc_row]
URL:https://tricities.wsu.edu/event/pasco-high-school-running-start-info-night-2/
LOCATION:Pasco High School\, 1108 N 10th Ave\, Pasco\, 99301\, United States
CATEGORIES:Calendar,Recruitment,Running Start
ORGANIZER;CN="WSU Tri-Cities":MAILTO:tricities.info@wsu.edu
END:VEVENT
BEGIN:VEVENT
DTSTART;TZID=America/Los_Angeles:20230131T103000
DTEND;TZID=America/Los_Angeles:20230131T120000
DTSTAMP:20260425T141232
CREATED:20230126T224746Z
LAST-MODIFIED:20230126T234706Z
UID:112626-1675161000-1675166400@tricities.wsu.edu
SUMMARY:Workshop: Group work took kit
DESCRIPTION:[vc_row css_animation=”” row_type=”row” use_row_as_full_screen_section=”no” type=”full_width” angled_section=”no” text_align=”left” background_image_as_pattern=”without_pattern”][vc_column][vc_column_text]Research has shown that group work can be an effective way to engage students in learning\, as it allows them to collaborate\, communicate\, and problem-solve together. During this workshop we will briefly discuss different types of group work\, such as collaborative learning\, jigsaw activities\, and think-pair-share. However\, the bulk of time will be dedicated to discussing how to structure and facilitate group work\, how to manage group dynamics\, and how to assess student learning during group work.[/vc_column_text][/vc_column][/vc_row]
URL:https://tricities.wsu.edu/event/group-work-took-kit-workshop/
LOCATION:CIC 223\, WA\, United States
CATEGORIES:Calendar,Faculty Development,IE&I
ORGANIZER;CN="WSU Tri-Cities":MAILTO:tricities.info@wsu.edu
END:VEVENT
BEGIN:VEVENT
DTSTART;TZID=America/Los_Angeles:20230131T170000
DTEND;TZID=America/Los_Angeles:20230131T180000
DTSTAMP:20260425T141232
CREATED:20221221T002141Z
LAST-MODIFIED:20230105T170440Z
UID:112186-1675184400-1675188000@tricities.wsu.edu
SUMMARY:Virtual Info Session | College of Education
DESCRIPTION:[vc_row css_animation=”” row_type=”row” use_row_as_full_screen_section=”no” type=”full_width” angled_section=”no” text_align=”left” background_image_as_pattern=”without_pattern”][vc_column][vc_row_inner row_type=”row” type=”full_width” text_align=”left” css_animation=””][vc_column_inner width=”1/2″][vc_column_text] \nReady to make a change?\nGain insight into the application process and next steps for: \n\n\n\nMasters in Educational Leadership\nPrincipal Certification and Program Administrator Certification\n\n\n\n[/vc_column_text][vc_separator type=”normal”]Join Zoom Call[vc_column_text]Join from PC\, Mac\, Linux\, iOS\, or Android: https://wsu.zoom.us/j/92232586199?pwd=KzQ5NzR2RVdEd0NQTGFWS2ZFejZlUT09 \nMeeting ID: 922 3258 6199\nPasscode: 103054\n[/vc_column_text][/vc_column_inner][vc_column_inner width=”1/2″][vc_single_image image=”105010″ img_size=”800×400″ qode_css_animation=””][/vc_column_inner][/vc_row_inner][/vc_column][/vc_row][vc_row css_animation=”” row_type=”row” use_row_as_full_screen_section=”no” type=”full_width” angled_section=”no” text_align=”left” background_image_as_pattern=”without_pattern” use_as_box=””][vc_column][vc_separator type=”normal”][vc_column_text]Questions?\nKathleen Cowin\, Associate Professor\, Educational Leadership\nKathleen.cowin@wsu.edu[/vc_column_text][/vc_column][/vc_row]
URL:https://tricities.wsu.edu/event/virtual-info-session-college-of-education/
LOCATION:Online\, WA\, United States
CATEGORIES:parents & families
END:VEVENT
END:VCALENDAR