BEGIN:VCALENDAR
VERSION:2.0
PRODID:-//WSU Tri-Cities - ECPv6.15.15//NONSGML v1.0//EN
CALSCALE:GREGORIAN
METHOD:PUBLISH
X-ORIGINAL-URL:https://tricities.wsu.edu
X-WR-CALDESC:Events for WSU Tri-Cities
REFRESH-INTERVAL;VALUE=DURATION:PT1H
X-Robots-Tag:noindex
X-PUBLISHED-TTL:PT1H
BEGIN:VTIMEZONE
TZID:America/Los_Angeles
BEGIN:DAYLIGHT
TZOFFSETFROM:-0800
TZOFFSETTO:-0700
TZNAME:PDT
DTSTART:20230312T100000
END:DAYLIGHT
BEGIN:STANDARD
TZOFFSETFROM:-0700
TZOFFSETTO:-0800
TZNAME:PST
DTSTART:20231105T090000
END:STANDARD
BEGIN:DAYLIGHT
TZOFFSETFROM:-0800
TZOFFSETTO:-0700
TZNAME:PDT
DTSTART:20240310T100000
END:DAYLIGHT
BEGIN:STANDARD
TZOFFSETFROM:-0700
TZOFFSETTO:-0800
TZNAME:PST
DTSTART:20241103T090000
END:STANDARD
BEGIN:DAYLIGHT
TZOFFSETFROM:-0800
TZOFFSETTO:-0700
TZNAME:PDT
DTSTART:20250309T100000
END:DAYLIGHT
BEGIN:STANDARD
TZOFFSETFROM:-0700
TZOFFSETTO:-0800
TZNAME:PST
DTSTART:20251102T090000
END:STANDARD
END:VTIMEZONE
BEGIN:VEVENT
DTSTART;TZID=America/Los_Angeles:20240504T130000
DTEND;TZID=America/Los_Angeles:20240504T130000
DTSTAMP:20260420T235658
CREATED:20240109T192721Z
LAST-MODIFIED:20240109T192721Z
UID:115876-1714827600-1714827600@tricities.wsu.edu
SUMMARY:WSU Tri-Cities Commencement
DESCRIPTION:[vc_row css_animation=”” row_type=”row” use_row_as_full_screen_section=”no” type=”full_width” angled_section=”no” text_align=”left” background_image_as_pattern=”without_pattern”][vc_column][vc_column_text] \n\n\n\n\n\n\n\n\n\nJoin us in celebrating our Coug graduates at Commencement! \n\n\n\n\n\n\n\n\n\n[/vc_column_text][/vc_column][/vc_row]
URL:https://tricities.wsu.edu/event/wsu-tri-cities-commencement-3/
LOCATION:WSU Tri-Cities\, 2710 Crimson Way\, Richland\, WA\, 99354\, United States
CATEGORIES:Calendar,Celebration,Commencement,community,parents & families,student,Student Success,university
ORGANIZER;CN="WSU Tri-Cities":MAILTO:tricities.info@wsu.edu
END:VEVENT
END:VCALENDAR