BEGIN:VCALENDAR
VERSION:2.0
PRODID:-//WSU Tri-Cities - ECPv6.15.15//NONSGML v1.0//EN
CALSCALE:GREGORIAN
METHOD:PUBLISH
X-ORIGINAL-URL:https://tricities.wsu.edu
X-WR-CALDESC:Events for WSU Tri-Cities
REFRESH-INTERVAL;VALUE=DURATION:PT1H
X-Robots-Tag:noindex
X-PUBLISHED-TTL:PT1H
BEGIN:VTIMEZONE
TZID:America/Los_Angeles
BEGIN:DAYLIGHT
TZOFFSETFROM:-0800
TZOFFSETTO:-0700
TZNAME:PDT
DTSTART:20160313T100000
END:DAYLIGHT
BEGIN:STANDARD
TZOFFSETFROM:-0700
TZOFFSETTO:-0800
TZNAME:PST
DTSTART:20161106T090000
END:STANDARD
BEGIN:DAYLIGHT
TZOFFSETFROM:-0800
TZOFFSETTO:-0700
TZNAME:PDT
DTSTART:20170312T100000
END:DAYLIGHT
BEGIN:STANDARD
TZOFFSETFROM:-0700
TZOFFSETTO:-0800
TZNAME:PST
DTSTART:20171105T090000
END:STANDARD
BEGIN:DAYLIGHT
TZOFFSETFROM:-0800
TZOFFSETTO:-0700
TZNAME:PDT
DTSTART:20180311T100000
END:DAYLIGHT
BEGIN:STANDARD
TZOFFSETFROM:-0700
TZOFFSETTO:-0800
TZNAME:PST
DTSTART:20181104T090000
END:STANDARD
END:VTIMEZONE
BEGIN:VEVENT
DTSTART;VALUE=DATE:20170403
DTEND;VALUE=DATE:20170408
DTSTAMP:20260421T120440
CREATED:20170309T164751Z
LAST-MODIFIED:20170309T164826Z
UID:38202-1491177600-1491609599@tricities.wsu.edu
SUMMARY:Spirit Week
DESCRIPTION:Spirit Week\nFor high school sophomores\, juniors and seniors\n \nJoin the Office of Admissions Monday\, April 3 – Friday\, April 7 to see what the Cougar spirit is all about! Take a campus tour leaving every hour on the hour with a current WSU Tri-Cities student from 9 am to 5 pm each day. Are you still deciding on a major? Take a ‘Find your Major’ buzz-feed style quiz! Meet with Admissions\, get all your questions answered about how to apply\, financial aid\, scholarships\, student life and housing! Parking is free. \nNo need to register\, just drop by!
URL:https://tricities.wsu.edu/event/spirit-week/
LOCATION:Office of Admissions\, 2710 University Dr\, Richland\, 99354\, United States
CATEGORIES:community,Recruitment
ORGANIZER;CN="Office of Admissions":MAILTO:admissions@tricity.wsu.edu 
END:VEVENT
END:VCALENDAR