BEGIN:VCALENDAR
VERSION:2.0
PRODID:-//WSU Tri-Cities - ECPv6.15.15//NONSGML v1.0//EN
CALSCALE:GREGORIAN
METHOD:PUBLISH
X-ORIGINAL-URL:https://tricities.wsu.edu
X-WR-CALDESC:Events for WSU Tri-Cities
REFRESH-INTERVAL;VALUE=DURATION:PT1H
X-Robots-Tag:noindex
X-PUBLISHED-TTL:PT1H
BEGIN:VTIMEZONE
TZID:America/Los_Angeles
BEGIN:DAYLIGHT
TZOFFSETFROM:-0800
TZOFFSETTO:-0700
TZNAME:PDT
DTSTART:20130310T100000
END:DAYLIGHT
BEGIN:STANDARD
TZOFFSETFROM:-0700
TZOFFSETTO:-0800
TZNAME:PST
DTSTART:20131103T090000
END:STANDARD
BEGIN:DAYLIGHT
TZOFFSETFROM:-0800
TZOFFSETTO:-0700
TZNAME:PDT
DTSTART:20140309T100000
END:DAYLIGHT
BEGIN:STANDARD
TZOFFSETFROM:-0700
TZOFFSETTO:-0800
TZNAME:PST
DTSTART:20141102T090000
END:STANDARD
BEGIN:DAYLIGHT
TZOFFSETFROM:-0800
TZOFFSETTO:-0700
TZNAME:PDT
DTSTART:20150308T100000
END:DAYLIGHT
BEGIN:STANDARD
TZOFFSETFROM:-0700
TZOFFSETTO:-0800
TZNAME:PST
DTSTART:20151101T090000
END:STANDARD
END:VTIMEZONE
BEGIN:VEVENT
DTSTART;TZID=America/Los_Angeles:20141206T100000
DTEND;TZID=America/Los_Angeles:20141206T130000
DTSTAMP:20260419T115821
CREATED:20141110T225625Z
LAST-MODIFIED:20141110T225625Z
UID:801-1417860000-1417870800@tricities.wsu.edu
SUMMARY:Peer Mentoring Program Networking Day
DESCRIPTION:Professional Networking Day\nEngineering and Computer Science \nGrow your knowledge and network \nConnect with industry professionals and:\n• Learn more about industry and technology trends\n• Get insider tips on internship and job strategies \nCIC 120/120A\, CIC 210/212/214/216/217
URL:https://tricities.wsu.edu/event/peer-mentoring-program-networking-day/
LOCATION:Consolidated Information Center at WSU Tri-Cities\, 2770 Crimson Way\, Richland\, WA\, 99354\, United States
CATEGORIES:student
END:VEVENT
END:VCALENDAR