BEGIN:VCALENDAR
VERSION:2.0
PRODID:-//WSU Tri-Cities - ECPv6.15.15//NONSGML v1.0//EN
CALSCALE:GREGORIAN
METHOD:PUBLISH
X-ORIGINAL-URL:https://tricities.wsu.edu
X-WR-CALDESC:Events for WSU Tri-Cities
REFRESH-INTERVAL;VALUE=DURATION:PT1H
X-Robots-Tag:noindex
X-PUBLISHED-TTL:PT1H
BEGIN:VTIMEZONE
TZID:America/Los_Angeles
BEGIN:DAYLIGHT
TZOFFSETFROM:-0800
TZOFFSETTO:-0700
TZNAME:PDT
DTSTART:20130310T100000
END:DAYLIGHT
BEGIN:STANDARD
TZOFFSETFROM:-0700
TZOFFSETTO:-0800
TZNAME:PST
DTSTART:20131103T090000
END:STANDARD
BEGIN:DAYLIGHT
TZOFFSETFROM:-0800
TZOFFSETTO:-0700
TZNAME:PDT
DTSTART:20140309T100000
END:DAYLIGHT
BEGIN:STANDARD
TZOFFSETFROM:-0700
TZOFFSETTO:-0800
TZNAME:PST
DTSTART:20141102T090000
END:STANDARD
BEGIN:DAYLIGHT
TZOFFSETFROM:-0800
TZOFFSETTO:-0700
TZNAME:PDT
DTSTART:20150308T100000
END:DAYLIGHT
BEGIN:STANDARD
TZOFFSETFROM:-0700
TZOFFSETTO:-0800
TZNAME:PST
DTSTART:20151101T090000
END:STANDARD
END:VTIMEZONE
BEGIN:VEVENT
DTSTART;TZID=America/Los_Angeles:20141124T080000
DTEND;TZID=America/Los_Angeles:20141128T170000
DTSTAMP:20260420T171909
CREATED:20141117T223143Z
LAST-MODIFIED:20141117T223143Z
UID:820-1416816000-1417194000@tricities.wsu.edu
SUMMARY:Thanksgiving Break
DESCRIPTION:Thanksgiving Break. No classes will be held.
URL:https://tricities.wsu.edu/event/thanksgiving-break/
END:VEVENT
BEGIN:VEVENT
DTSTART;TZID=America/Los_Angeles:20141124T080000
DTEND;TZID=America/Los_Angeles:20141128T170000
DTSTAMP:20260420T171909
CREATED:20141117T230111Z
LAST-MODIFIED:20141117T230111Z
UID:821-1416816000-1417194000@tricities.wsu.edu
SUMMARY:Crimson Cafe hours during Thanksgiving break
DESCRIPTION:Week of Thanksgiving\nNovember 24-28\nMonday -Wednesday Open 8 a.m. – 1 p.m.\n• Thursday – Friday Closed
URL:https://tricities.wsu.edu/event/crimson-cafe-hours-during-thanksgiving-break/
END:VEVENT
BEGIN:VEVENT
DTSTART;VALUE=DATE:20141127
DTEND;VALUE=DATE:20141201
DTSTAMP:20260420T171909
CREATED:20141106T030842Z
LAST-MODIFIED:20141106T030842Z
UID:780-1417046400-1417391999@tricities.wsu.edu
SUMMARY:Thanksgiving holiday — campus closed
DESCRIPTION:WSU Tri-Cities campus is closed in observance of Thanksgiving Day. Campus will reopen Monday\, December 1.
URL:https://tricities.wsu.edu/event/thanksgiving-holiday-campus-closed/
CATEGORIES:university
END:VEVENT
END:VCALENDAR