BEGIN:VCALENDAR
VERSION:2.0
PRODID:-//WSU Tri-Cities - ECPv6.15.15//NONSGML v1.0//EN
CALSCALE:GREGORIAN
METHOD:PUBLISH
X-WR-CALNAME:WSU Tri-Cities
X-ORIGINAL-URL:https://tricities.wsu.edu
X-WR-CALDESC:Events for WSU Tri-Cities
REFRESH-INTERVAL;VALUE=DURATION:PT1H
X-Robots-Tag:noindex
X-PUBLISHED-TTL:PT1H
BEGIN:VTIMEZONE
TZID:America/Los_Angeles
BEGIN:DAYLIGHT
TZOFFSETFROM:-0800
TZOFFSETTO:-0700
TZNAME:PDT
DTSTART:20130310T100000
END:DAYLIGHT
BEGIN:STANDARD
TZOFFSETFROM:-0700
TZOFFSETTO:-0800
TZNAME:PST
DTSTART:20131103T090000
END:STANDARD
BEGIN:DAYLIGHT
TZOFFSETFROM:-0800
TZOFFSETTO:-0700
TZNAME:PDT
DTSTART:20140309T100000
END:DAYLIGHT
BEGIN:STANDARD
TZOFFSETFROM:-0700
TZOFFSETTO:-0800
TZNAME:PST
DTSTART:20141102T090000
END:STANDARD
BEGIN:DAYLIGHT
TZOFFSETFROM:-0800
TZOFFSETTO:-0700
TZNAME:PDT
DTSTART:20150308T100000
END:DAYLIGHT
BEGIN:STANDARD
TZOFFSETFROM:-0700
TZOFFSETTO:-0800
TZNAME:PST
DTSTART:20151101T090000
END:STANDARD
END:VTIMEZONE
BEGIN:VEVENT
DTSTART;TZID=America/Los_Angeles:20140619T191500
DTEND;TZID=America/Los_Angeles:20140619T191500
DTSTAMP:20260421T112831
CREATED:20140715T004854Z
LAST-MODIFIED:20140715T004854Z
UID:729-1403205300-1403205300@tricities.wsu.edu
SUMMARY:Dust Devils\, 7:15 p.m.\, Gesa Stadium\, Pasco
DESCRIPTION:Coug Night with the  Dust Devils \nThursday\, June 197:15 PM		Gesa StadiumPasco\, WA \nCome join fellow Cougs\, friends\, and family for a fun night in Gesa Stadium to help us cheer on the Dust Devils playing against the Everett AquaSox!  \nThe cost for this event is $9 for Upper Box seats and $8 for General Admission seats. $1 per ticket purchased will be donated to WSU student scholarships through the WSU Alumni Association!  \nTo reserve your spot for this fun event\, contact Jason Bravo with the Dust Devils at 509.544.8789 or by email at jbravo@dustdevilsbaseball.com. \nTickets must be purchased by Thursday\, June 12th. Can’t wait to see you all there!
URL:https://tricities.wsu.edu/event/dust-devils-715-p-m-gesa-stadium-pasco/
CATEGORIES:university
END:VEVENT
END:VCALENDAR