BEGIN:VCALENDAR
VERSION:2.0
PRODID:-//WSU Tri-Cities - ECPv6.15.15//NONSGML v1.0//EN
CALSCALE:GREGORIAN
METHOD:PUBLISH
X-WR-CALNAME:WSU Tri-Cities
X-ORIGINAL-URL:https://tricities.wsu.edu
X-WR-CALDESC:Events for WSU Tri-Cities
REFRESH-INTERVAL;VALUE=DURATION:PT1H
X-Robots-Tag:noindex
X-PUBLISHED-TTL:PT1H
BEGIN:VTIMEZONE
TZID:America/Los_Angeles
BEGIN:DAYLIGHT
TZOFFSETFROM:-0800
TZOFFSETTO:-0700
TZNAME:PDT
DTSTART:20130310T100000
END:DAYLIGHT
BEGIN:STANDARD
TZOFFSETFROM:-0700
TZOFFSETTO:-0800
TZNAME:PST
DTSTART:20131103T090000
END:STANDARD
BEGIN:DAYLIGHT
TZOFFSETFROM:-0800
TZOFFSETTO:-0700
TZNAME:PDT
DTSTART:20140309T100000
END:DAYLIGHT
BEGIN:STANDARD
TZOFFSETFROM:-0700
TZOFFSETTO:-0800
TZNAME:PST
DTSTART:20141102T090000
END:STANDARD
BEGIN:DAYLIGHT
TZOFFSETFROM:-0800
TZOFFSETTO:-0700
TZNAME:PDT
DTSTART:20150308T100000
END:DAYLIGHT
BEGIN:STANDARD
TZOFFSETFROM:-0700
TZOFFSETTO:-0800
TZNAME:PST
DTSTART:20151101T090000
END:STANDARD
END:VTIMEZONE
BEGIN:VEVENT
DTSTART;TZID=America/Los_Angeles:20140618T173000
DTEND;TZID=America/Los_Angeles:20140618T173000
DTSTAMP:20260421T150335
CREATED:20140715T004854Z
LAST-MODIFIED:20140715T004854Z
UID:727-1403112600-1403112600@tricities.wsu.edu
SUMMARY:Open House for Graduate School\, 5:30 p.m.\, East Building
DESCRIPTION:Learn about graduate degree programs offered at WSU Tri-Cities during an open house from 5:30 to 6:30 p.m.\, Wednesday\,  June 18\, in the East Building\, 2710 Crimson Way\, Richland. Admission is free\, no RSVP needed. \nContact the Admissions Office at 509-372-7250 or admissions@tricity.wsu.edu.
URL:https://tricities.wsu.edu/event/open-house-for-graduate-school-530-p-m-east-building/
CATEGORIES:community
END:VEVENT
BEGIN:VEVENT
DTSTART;TZID=America/Los_Angeles:20140618T173000
DTEND;TZID=America/Los_Angeles:20140618T173000
DTSTAMP:20260421T150335
CREATED:20140715T004854Z
LAST-MODIFIED:20140715T004854Z
UID:726-1403112600-1403112600@tricities.wsu.edu
SUMMARY:Graduate Students Open House\, 5:30 p.m.\, East Auditorium
DESCRIPTION:Interested in graduate school? Learn about the options and requirements at this open house\, 5:30 to 6:30 pm. Wednesday\, June 18\, in the East Building Auditorium at WSU Tri-Cities.
URL:https://tricities.wsu.edu/event/graduate-students-open-house-530-p-m-east-auditorium/
CATEGORIES:academic
END:VEVENT
END:VCALENDAR