BEGIN:VCALENDAR
VERSION:2.0
PRODID:-//WSU Tri-Cities - ECPv6.15.15//NONSGML v1.0//EN
CALSCALE:GREGORIAN
METHOD:PUBLISH
X-ORIGINAL-URL:https://tricities.wsu.edu
X-WR-CALDESC:Events for WSU Tri-Cities
REFRESH-INTERVAL;VALUE=DURATION:PT1H
X-Robots-Tag:noindex
X-PUBLISHED-TTL:PT1H
BEGIN:VTIMEZONE
TZID:America/Los_Angeles
BEGIN:DAYLIGHT
TZOFFSETFROM:-0800
TZOFFSETTO:-0700
TZNAME:PDT
DTSTART:20130310T100000
END:DAYLIGHT
BEGIN:STANDARD
TZOFFSETFROM:-0700
TZOFFSETTO:-0800
TZNAME:PST
DTSTART:20131103T090000
END:STANDARD
BEGIN:DAYLIGHT
TZOFFSETFROM:-0800
TZOFFSETTO:-0700
TZNAME:PDT
DTSTART:20140309T100000
END:DAYLIGHT
BEGIN:STANDARD
TZOFFSETFROM:-0700
TZOFFSETTO:-0800
TZNAME:PST
DTSTART:20141102T090000
END:STANDARD
BEGIN:DAYLIGHT
TZOFFSETFROM:-0800
TZOFFSETTO:-0700
TZNAME:PDT
DTSTART:20150308T100000
END:DAYLIGHT
BEGIN:STANDARD
TZOFFSETFROM:-0700
TZOFFSETTO:-0800
TZNAME:PST
DTSTART:20151101T090000
END:STANDARD
END:VTIMEZONE
BEGIN:VEVENT
DTSTART;TZID=America/Los_Angeles:20140516T093000
DTEND;TZID=America/Los_Angeles:20140516T093000
DTSTAMP:20260424T023113
CREATED:20140715T004849Z
LAST-MODIFIED:20140715T004849Z
UID:668-1400232600-1400232600@tricities.wsu.edu
SUMMARY:Nursing building drill\, 9:30 a.m.\, 1268 Lee Blvd.
DESCRIPTION:Kadlec\, RFD\, and RPD will be running an evacuation drill at the College of Nursing building (the whole facility\, not just the WSU Tri-Cities side) on May 16\, from about 9:30-11 a.m. \nScott TomrenEnvironmental Health & Safety Coordinator509-372-7163
URL:https://tricities.wsu.edu/event/nursing-building-drill-930-a-m-1268-lee-blvd/
CATEGORIES:administration
END:VEVENT
END:VCALENDAR