BEGIN:VCALENDAR
VERSION:2.0
PRODID:-//WSU Tri-Cities - ECPv6.15.15//NONSGML v1.0//EN
CALSCALE:GREGORIAN
METHOD:PUBLISH
X-ORIGINAL-URL:https://tricities.wsu.edu
X-WR-CALDESC:Events for WSU Tri-Cities
REFRESH-INTERVAL;VALUE=DURATION:PT1H
X-Robots-Tag:noindex
X-PUBLISHED-TTL:PT1H
BEGIN:VTIMEZONE
TZID:America/Los_Angeles
BEGIN:DAYLIGHT
TZOFFSETFROM:-0800
TZOFFSETTO:-0700
TZNAME:PDT
DTSTART:20130310T100000
END:DAYLIGHT
BEGIN:STANDARD
TZOFFSETFROM:-0700
TZOFFSETTO:-0800
TZNAME:PST
DTSTART:20131103T090000
END:STANDARD
BEGIN:DAYLIGHT
TZOFFSETFROM:-0800
TZOFFSETTO:-0700
TZNAME:PDT
DTSTART:20140309T100000
END:DAYLIGHT
BEGIN:STANDARD
TZOFFSETFROM:-0700
TZOFFSETTO:-0800
TZNAME:PST
DTSTART:20141102T090000
END:STANDARD
BEGIN:DAYLIGHT
TZOFFSETFROM:-0800
TZOFFSETTO:-0700
TZNAME:PDT
DTSTART:20150308T100000
END:DAYLIGHT
BEGIN:STANDARD
TZOFFSETFROM:-0700
TZOFFSETTO:-0800
TZNAME:PST
DTSTART:20151101T090000
END:STANDARD
END:VTIMEZONE
BEGIN:VEVENT
DTSTART;TZID=America/Los_Angeles:20140428T000000
DTEND;TZID=America/Los_Angeles:20140502T000000
DTSTAMP:20260424T023113
CREATED:20140715T004829Z
LAST-MODIFIED:20140715T004829Z
UID:418-1398643200-1398988800@tricities.wsu.edu
SUMMARY:Dead Week: Last week of instruction
DESCRIPTION:Last week of instruction for spring semester.
URL:https://tricities.wsu.edu/event/dead-week-last-week-of-instruction/
CATEGORIES:Calendar
END:VEVENT
BEGIN:VEVENT
DTSTART;TZID=America/Los_Angeles:20140428T100000
DTEND;TZID=America/Los_Angeles:20140428T100000
DTSTAMP:20260424T023113
CREATED:20140715T004850Z
LAST-MODIFIED:20140715T004850Z
UID:688-1398679200-1398679200@tricities.wsu.edu
SUMMARY:Stress Relief with Therapy Dogs\, 10 a.m.\, West Atrium
DESCRIPTION:Therapy Dogs will be coming in to help students relax during Dead Week\, when students prepare for finals. \nContact: Office of Student Involvement372-7299
URL:https://tricities.wsu.edu/event/stress-relief-with-therapy-dogs-10-a-m-west-atrium/
CATEGORIES:student
END:VEVENT
BEGIN:VEVENT
DTSTART;TZID=America/Los_Angeles:20140428T140000
DTEND;TZID=America/Los_Angeles:20140428T140000
DTSTAMP:20260424T023113
CREATED:20140715T004851Z
LAST-MODIFIED:20140715T004851Z
UID:704-1398693600-1398693600@tricities.wsu.edu
SUMMARY:Wine seminar: Dr. Martin Mendez\, 2 p.m.\, West 224
DESCRIPTION:The Viticulture & Enology program welcomes Dr. Martin Mendez for a seminar at 2 p.m. in West 224. \nContact: Debbie at 372-7224 or schwenso@wsu.edu
URL:https://tricities.wsu.edu/event/wine-seminar-dr-martin-mendez-2-p-m-west-224/
CATEGORIES:academic
END:VEVENT
END:VCALENDAR