BEGIN:VCALENDAR
VERSION:2.0
PRODID:-//WSU Tri-Cities - ECPv6.15.15//NONSGML v1.0//EN
CALSCALE:GREGORIAN
METHOD:PUBLISH
X-WR-CALNAME:WSU Tri-Cities
X-ORIGINAL-URL:https://tricities.wsu.edu
X-WR-CALDESC:Events for WSU Tri-Cities
REFRESH-INTERVAL;VALUE=DURATION:PT1H
X-Robots-Tag:noindex
X-PUBLISHED-TTL:PT1H
BEGIN:VTIMEZONE
TZID:America/Los_Angeles
BEGIN:DAYLIGHT
TZOFFSETFROM:-0800
TZOFFSETTO:-0700
TZNAME:PDT
DTSTART:20130310T100000
END:DAYLIGHT
BEGIN:STANDARD
TZOFFSETFROM:-0700
TZOFFSETTO:-0800
TZNAME:PST
DTSTART:20131103T090000
END:STANDARD
BEGIN:DAYLIGHT
TZOFFSETFROM:-0800
TZOFFSETTO:-0700
TZNAME:PDT
DTSTART:20140309T100000
END:DAYLIGHT
BEGIN:STANDARD
TZOFFSETFROM:-0700
TZOFFSETTO:-0800
TZNAME:PST
DTSTART:20141102T090000
END:STANDARD
BEGIN:DAYLIGHT
TZOFFSETFROM:-0800
TZOFFSETTO:-0700
TZNAME:PDT
DTSTART:20150308T100000
END:DAYLIGHT
BEGIN:STANDARD
TZOFFSETFROM:-0700
TZOFFSETTO:-0800
TZNAME:PST
DTSTART:20151101T090000
END:STANDARD
END:VTIMEZONE
BEGIN:VEVENT
DTSTART;TZID=America/Los_Angeles:20140415T130000
DTEND;TZID=America/Los_Angeles:20140415T130000
DTSTAMP:20260425T164953
CREATED:20140715T004842Z
LAST-MODIFIED:20140715T004842Z
UID:22679-1397566800-1397566800@tricities.wsu.edu
SUMMARY:Student Success Workshop: Controlling Presentation Anxiety\, 1 p.m.\, West 240
DESCRIPTION:April 14\, 10:00am\, W240						April 15\, 1:00pm\, W240 \nControlling Presentation Anxiety:  Do you feel self-conscious when you are around others?  Do you stress out when you have presentations for class? Learn how to overcome stress and how to build your confidence.  	 \nAdmission is free and open to the public. Workshops last about an hour – come when you can. The same workshop is repeated Mondays at 10 a.m. and Tuesdays at 1 p.m. \nPresented by Aphrodite Beidler\, LMHC\, Mental Health Counselor at Washington State University Tri-Cities\, 509-372-7153 or abeidler@tricity.wsu.edu.
URL:https://tricities.wsu.edu/event/student-success-workshop-controlling-presentation-anxiety-1-p-m-west-240/
CATEGORIES:Calendar
END:VEVENT
END:VCALENDAR