BEGIN:VCALENDAR
VERSION:2.0
PRODID:-//WSU Tri-Cities - ECPv6.15.15//NONSGML v1.0//EN
CALSCALE:GREGORIAN
METHOD:PUBLISH
X-WR-CALNAME:WSU Tri-Cities
X-ORIGINAL-URL:https://tricities.wsu.edu
X-WR-CALDESC:Events for WSU Tri-Cities
REFRESH-INTERVAL;VALUE=DURATION:PT1H
X-Robots-Tag:noindex
X-PUBLISHED-TTL:PT1H
BEGIN:VTIMEZONE
TZID:America/Los_Angeles
BEGIN:DAYLIGHT
TZOFFSETFROM:-0800
TZOFFSETTO:-0700
TZNAME:PDT
DTSTART:20130310T100000
END:DAYLIGHT
BEGIN:STANDARD
TZOFFSETFROM:-0700
TZOFFSETTO:-0800
TZNAME:PST
DTSTART:20131103T090000
END:STANDARD
BEGIN:DAYLIGHT
TZOFFSETFROM:-0800
TZOFFSETTO:-0700
TZNAME:PDT
DTSTART:20140309T100000
END:DAYLIGHT
BEGIN:STANDARD
TZOFFSETFROM:-0700
TZOFFSETTO:-0800
TZNAME:PST
DTSTART:20141102T090000
END:STANDARD
BEGIN:DAYLIGHT
TZOFFSETFROM:-0800
TZOFFSETTO:-0700
TZNAME:PDT
DTSTART:20150308T100000
END:DAYLIGHT
BEGIN:STANDARD
TZOFFSETFROM:-0700
TZOFFSETTO:-0800
TZNAME:PST
DTSTART:20151101T090000
END:STANDARD
END:VTIMEZONE
BEGIN:VEVENT
DTSTART;TZID=America/Los_Angeles:20140412T100000
DTEND;TZID=America/Los_Angeles:20140412T100000
DTSTAMP:20260423T004324
CREATED:20140715T004843Z
LAST-MODIFIED:20140715T004843Z
UID:558-1397296800-1397296800@tricities.wsu.edu
SUMMARY:Professional & Graduate School Fair for Science & Health Sciences Fair\, 10 a.m. to 2:30 p.m.\, CIC
DESCRIPTION:The Career Development Center presents a Professional & Graduate School Fair for Science & Health Sciences Fair on Saturday\, April 12\, in the Consolidated Information Center\, 2770 Crimson Way\, Richland. \n• 10:00 am to 12:30 pm: Workshops on how to get into graduate science programs and professional degree programs in the health sciences  \n• 12:30 to 2:30 pm: Graduate and Professional School Fair for Science and the Health Sciences (meet representatives from nine universities representing medicine\, PA\, pharmacy\, physical therapy\, optometry\, clinical psychology\, other health sciences\, and vet med. \nOpen to high school students\, community college and university students\, parents\, teachers\, advisors\, and the public.  \nFree but pre-registration is required at http://goo.gl/YdqVR4  \nContact:dimple.patel@tricity.wsu.edu
URL:https://tricities.wsu.edu/event/professional-graduate-school-fair-for-science-health-sciences-fair-10-a-m-to-230-p-m-cic/
CATEGORIES:community
END:VEVENT
END:VCALENDAR