BEGIN:VCALENDAR
VERSION:2.0
PRODID:-//WSU Tri-Cities - ECPv6.15.15//NONSGML v1.0//EN
CALSCALE:GREGORIAN
METHOD:PUBLISH
X-WR-CALNAME:WSU Tri-Cities
X-ORIGINAL-URL:https://tricities.wsu.edu
X-WR-CALDESC:Events for WSU Tri-Cities
REFRESH-INTERVAL;VALUE=DURATION:PT1H
X-Robots-Tag:noindex
X-PUBLISHED-TTL:PT1H
BEGIN:VTIMEZONE
TZID:America/Los_Angeles
BEGIN:DAYLIGHT
TZOFFSETFROM:-0800
TZOFFSETTO:-0700
TZNAME:PDT
DTSTART:20130310T100000
END:DAYLIGHT
BEGIN:STANDARD
TZOFFSETFROM:-0700
TZOFFSETTO:-0800
TZNAME:PST
DTSTART:20131103T090000
END:STANDARD
BEGIN:DAYLIGHT
TZOFFSETFROM:-0800
TZOFFSETTO:-0700
TZNAME:PDT
DTSTART:20140309T100000
END:DAYLIGHT
BEGIN:STANDARD
TZOFFSETFROM:-0700
TZOFFSETTO:-0800
TZNAME:PST
DTSTART:20141102T090000
END:STANDARD
BEGIN:DAYLIGHT
TZOFFSETFROM:-0800
TZOFFSETTO:-0700
TZNAME:PDT
DTSTART:20150308T100000
END:DAYLIGHT
BEGIN:STANDARD
TZOFFSETFROM:-0700
TZOFFSETTO:-0800
TZNAME:PST
DTSTART:20151101T090000
END:STANDARD
END:VTIMEZONE
BEGIN:VEVENT
DTSTART;TZID=America/Los_Angeles:20140410T111000
DTEND;TZID=America/Los_Angeles:20140410T111000
DTSTAMP:20260420T120844
CREATED:20140715T004846Z
LAST-MODIFIED:20140715T004846Z
UID:621-1397128200-1397128200@tricities.wsu.edu
SUMMARY:Career workshop: Ace the interview\, 11:10 a.m.\, West 243
DESCRIPTION:Ace the Interview and Land the Job: Learn what to do before\, during and after an interview. Get a checklist\, learn how to answer tough questions and make the best professional impression. \nCareer Development Center workshops are available to students on a variety of subjects including: résumés\, cover letters\, interview skills\, choosing a major\, managing your online presence and many more. Our staff is also available for presentations and workshops for your class or group. Admission is free\, no RSVP needed. Show up when you can. \nFor a complete listing of workshops\, visithttp://www.tricity.wsu.edu/careers/events.php
URL:https://tricities.wsu.edu/event/career-workshop-ace-the-interview-1110-a-m-west-243/
CATEGORIES:student
END:VEVENT
BEGIN:VEVENT
DTSTART;TZID=America/Los_Angeles:20140410T130000
DTEND;TZID=America/Los_Angeles:20140410T130000
DTSTAMP:20260420T120844
CREATED:20140715T004848Z
LAST-MODIFIED:20140715T004848Z
UID:651-1397134800-1397134800@tricities.wsu.edu
SUMMARY:ASWSUTC Student Forum\, 1 p.m.\, West Atrium
DESCRIPTION:During this event\, Chancellor Moo-Young and campus leadership will listen to student concerns and address them\, along with other faculty.  \nForms will be given out to students to fill out anonymously.  \nPizza will by served to students. The forum is from 1 to 2 p.m. \nThe Student Forum’s purpose is to bring student concerns to the administration.  This event will allow administration and Student Government to understand what is going on for students. \nContact:  dan.berghofer@email.wsu.edu
URL:https://tricities.wsu.edu/event/aswsutc-student-forum-1-p-m-west-atrium/
CATEGORIES:student
END:VEVENT
END:VCALENDAR