BEGIN:VCALENDAR
VERSION:2.0
PRODID:-//WSU Tri-Cities - ECPv6.15.15//NONSGML v1.0//EN
CALSCALE:GREGORIAN
METHOD:PUBLISH
X-ORIGINAL-URL:https://tricities.wsu.edu
X-WR-CALDESC:Events for WSU Tri-Cities
REFRESH-INTERVAL;VALUE=DURATION:PT1H
X-Robots-Tag:noindex
X-PUBLISHED-TTL:PT1H
BEGIN:VTIMEZONE
TZID:America/Los_Angeles
BEGIN:DAYLIGHT
TZOFFSETFROM:-0800
TZOFFSETTO:-0700
TZNAME:PDT
DTSTART:20130310T100000
END:DAYLIGHT
BEGIN:STANDARD
TZOFFSETFROM:-0700
TZOFFSETTO:-0800
TZNAME:PST
DTSTART:20131103T090000
END:STANDARD
BEGIN:DAYLIGHT
TZOFFSETFROM:-0800
TZOFFSETTO:-0700
TZNAME:PDT
DTSTART:20140309T100000
END:DAYLIGHT
BEGIN:STANDARD
TZOFFSETFROM:-0700
TZOFFSETTO:-0800
TZNAME:PST
DTSTART:20141102T090000
END:STANDARD
BEGIN:DAYLIGHT
TZOFFSETFROM:-0800
TZOFFSETTO:-0700
TZNAME:PDT
DTSTART:20150308T100000
END:DAYLIGHT
BEGIN:STANDARD
TZOFFSETFROM:-0700
TZOFFSETTO:-0800
TZNAME:PST
DTSTART:20151101T090000
END:STANDARD
END:VTIMEZONE
BEGIN:VEVENT
DTSTART;TZID=America/Los_Angeles:20140409T073000
DTEND;TZID=America/Los_Angeles:20140409T073000
DTSTAMP:20260422T231239
CREATED:20140715T004844Z
LAST-MODIFIED:20140715T004844Z
UID:591-1397028600-1397028600@tricities.wsu.edu
SUMMARY:GEAR UP: Teacher Training\, CIC 210
DESCRIPTION:Teacher Training workshop for TI MathForward\, through GEAR UP. \ncplemmons@earlyoutreach.wsu.edu
URL:https://tricities.wsu.edu/event/gear-up-teacher-training-cic-210/
CATEGORIES:academic
END:VEVENT
BEGIN:VEVENT
DTSTART;TZID=America/Los_Angeles:20140409T111000
DTEND;TZID=America/Los_Angeles:20140409T111000
DTSTAMP:20260422T231239
CREATED:20140715T004846Z
LAST-MODIFIED:20140715T004846Z
UID:620-1397041800-1397041800@tricities.wsu.edu
SUMMARY:Career workshop: Professional Network\, 11:10 a.m.\, West 247
DESCRIPTION:Expand Your Professional Network: Build your networking skills and learn multiple ways to grow your professional network. \nCareer Development Center workshops are available to students on a variety of subjects including: résumés\, cover letters\, interview skills\, choosing a major\, managing your online presence and many more. Our staff is also available for presentations and workshops for your class or group. Admission is free\, no RSVP needed. Show up when you can. \nFor a complete listing of workshops\, visithttp://www.tricity.wsu.edu/careers/events.php
URL:https://tricities.wsu.edu/event/career-workshop-professional-network-1110-a-m-west-247/
CATEGORIES:student
END:VEVENT
BEGIN:VEVENT
DTSTART;TZID=America/Los_Angeles:20140409T160000
DTEND;TZID=America/Los_Angeles:20140409T160000
DTSTAMP:20260422T231239
CREATED:20140715T004849Z
LAST-MODIFIED:20140715T004849Z
UID:666-1397059200-1397059200@tricities.wsu.edu
SUMMARY:Student Talent Show\, 4 p.m.\, West Atrium
DESCRIPTION:The Student Entertainment Board is holding a talent show.
URL:https://tricities.wsu.edu/event/student-talent-show-4-p-m-west-atrium/
CATEGORIES:student
END:VEVENT
BEGIN:VEVENT
DTSTART;TZID=America/Los_Angeles:20140409T180000
DTEND;TZID=America/Los_Angeles:20140409T180000
DTSTAMP:20260422T231239
CREATED:20140715T004848Z
LAST-MODIFIED:20140715T004848Z
UID:640-1397066400-1397066400@tricities.wsu.edu
SUMMARY:Art Exhibit Opening Reception: Richland School District\, 6-7 p.m.\, CIC Art Center
DESCRIPTION:The Richland School District’s K-12 Art Exhibit opening reception is from 6 to 7 p.m. in the CIC Art Center\, 2770 Crimson Way\, Richland. The exhibit is on display through April 24.  \nThe CIC Art Center is open Monday through Friday from 7 a.m. to 10 p.m.\, closed Saturday and Sunday. Admission is free.
URL:https://tricities.wsu.edu/event/art-exhibit-opening-reception-richland-school-district-6-7-p-m-cic-art-center/
CATEGORIES:community
END:VEVENT
BEGIN:VEVENT
DTSTART;TZID=America/Los_Angeles:20140409T183000
DTEND;TZID=America/Los_Angeles:20140409T183000
DTSTAMP:20260422T231239
CREATED:20140715T004844Z
LAST-MODIFIED:20140715T004844Z
UID:577-1397068200-1397068200@tricities.wsu.edu
SUMMARY:Future of News Media Forum\, 6:30 p.m.\, East Auditorium
DESCRIPTION:Future of the News Media forum\, 6:30 p.m.\, East Building Auditorium. \nCo-sponsored by the Badger Club\, Leadership Tri-Cities\, the Society of Professional Journalists\, and WSU Tri-Cities. Admission is free and open to the public. \nThis panel discussion features executives from the Tri-City Herald\, KNDU-TV\, the Tri-Cities Journal of Business and KONA radio:Gregg McConnell\, Tri-City Herald publisherLaurie Williams\, Tri-City Herald executive editorChristine Brown\, KNDU station managerJeff Pohjola\, KONA news directorMary Coffman\, Tri-Cities Journal of Business editor
URL:https://tricities.wsu.edu/event/future-of-news-media-forum-630-p-m-east-auditorium/
CATEGORIES:community
END:VEVENT
END:VCALENDAR