BEGIN:VCALENDAR
VERSION:2.0
PRODID:-//WSU Tri-Cities - ECPv6.15.15//NONSGML v1.0//EN
CALSCALE:GREGORIAN
METHOD:PUBLISH
X-WR-CALNAME:WSU Tri-Cities
X-ORIGINAL-URL:https://tricities.wsu.edu
X-WR-CALDESC:Events for WSU Tri-Cities
REFRESH-INTERVAL;VALUE=DURATION:PT1H
X-Robots-Tag:noindex
X-PUBLISHED-TTL:PT1H
BEGIN:VTIMEZONE
TZID:America/Los_Angeles
BEGIN:DAYLIGHT
TZOFFSETFROM:-0800
TZOFFSETTO:-0700
TZNAME:PDT
DTSTART:20130310T100000
END:DAYLIGHT
BEGIN:STANDARD
TZOFFSETFROM:-0700
TZOFFSETTO:-0800
TZNAME:PST
DTSTART:20131103T090000
END:STANDARD
BEGIN:DAYLIGHT
TZOFFSETFROM:-0800
TZOFFSETTO:-0700
TZNAME:PDT
DTSTART:20140309T100000
END:DAYLIGHT
BEGIN:STANDARD
TZOFFSETFROM:-0700
TZOFFSETTO:-0800
TZNAME:PST
DTSTART:20141102T090000
END:STANDARD
BEGIN:DAYLIGHT
TZOFFSETFROM:-0800
TZOFFSETTO:-0700
TZNAME:PDT
DTSTART:20150308T100000
END:DAYLIGHT
BEGIN:STANDARD
TZOFFSETFROM:-0700
TZOFFSETTO:-0800
TZNAME:PST
DTSTART:20151101T090000
END:STANDARD
END:VTIMEZONE
BEGIN:VEVENT
DTSTART;TZID=America/Los_Angeles:20140321T090000
DTEND;TZID=America/Los_Angeles:20140321T090000
DTSTAMP:20260420T065747
CREATED:20140715T004845Z
LAST-MODIFIED:20140715T004845Z
UID:614-1395392400-1395392400@tricities.wsu.edu
SUMMARY:Allied Health Conference\, 9 a.m. to 4 p.m.\, Nursing building
DESCRIPTION:Nursing Pathways presents: the ALLIED HEALTH CONFERENCEFRIDAY\, MARCH 219:00 AM-4:00 PMCollege of Nursing building\, 1266 Lee Blvd.\, Richland. \nThe purpose of this conference is to stimulate outstanding high school students’ interest in pursuing Allied Health careers by allowing them to meet and learn first-hand about the work of local health professionals\, discover the simulation lab\, and experience a university-level health sciences class. \nOur goal is that participants will leave with a greater interest in pursuing a career in health care. Workshop topics and presenters may include: Speech Pathology\, Pharmacy\, Nursing\, Optometry\, Physical Therapy\, Doctor/Pediatrician\, Physician Assistant\, Dentistry. \nContact:Robert GarzaStudent Services Manager509-372-7181roberto_garza@tricity.wsu.eduwww.nursing.wsu.edu/Nursing-Pathways \nPick-Up time at high schools- Varies by school09:00am-10:15am Meet at WSU-TC College of Nursing; Welcome\, overview\, Icebreakers10:30am-11:15am Workshops #111:20am-11:50am Lunch (provided by high schools)11:55am-12:40pm Workshops #212:45pm-1:30pm Workshops #301:35pm-02:20pm Workshops#402:30pm-2:50pm Bus students to main campus03:00pm-3:40pm Campus tour & Farewell3:45pm-4:00pm Pizza and departureDrop-Off at high schools- Varies by school
URL:https://tricities.wsu.edu/event/allied-health-conference-9-a-m-to-4-p-m-nursing-building/
CATEGORIES:student
END:VEVENT
BEGIN:VEVENT
DTSTART;TZID=America/Los_Angeles:20140321T090000
DTEND;TZID=America/Los_Angeles:20140321T130000
DTSTAMP:20260420T065747
CREATED:20140715T004832Z
LAST-MODIFIED:20140715T004832Z
UID:468-1395392400-1395406800@tricities.wsu.edu
SUMMARY:College Planning Day\, 9 a.m. to 1 p.m.\, campuswide
DESCRIPTION:College Planning Day will be held at WSU Tri-Cities\, coordinated by the Office of Enrollment Management at 509-372-7250 or admissions@tricity.wsu.edu. \nAbout 400 people are expected to attend. This event will be held throughout campus\, including the East Building\, West Building\, BSEL and Consolidated Information Center.
URL:https://tricities.wsu.edu/event/college-planning-day-9-a-m-to-1-p-m-campuswide/
CATEGORIES:Calendar
END:VEVENT
END:VCALENDAR