BEGIN:VCALENDAR
VERSION:2.0
PRODID:-//WSU Tri-Cities - ECPv6.15.15//NONSGML v1.0//EN
CALSCALE:GREGORIAN
METHOD:PUBLISH
X-WR-CALNAME:WSU Tri-Cities
X-ORIGINAL-URL:https://tricities.wsu.edu
X-WR-CALDESC:Events for WSU Tri-Cities
REFRESH-INTERVAL;VALUE=DURATION:PT1H
X-Robots-Tag:noindex
X-PUBLISHED-TTL:PT1H
BEGIN:VTIMEZONE
TZID:America/Los_Angeles
BEGIN:DAYLIGHT
TZOFFSETFROM:-0800
TZOFFSETTO:-0700
TZNAME:PDT
DTSTART:20130310T100000
END:DAYLIGHT
BEGIN:STANDARD
TZOFFSETFROM:-0700
TZOFFSETTO:-0800
TZNAME:PST
DTSTART:20131103T090000
END:STANDARD
BEGIN:DAYLIGHT
TZOFFSETFROM:-0800
TZOFFSETTO:-0700
TZNAME:PDT
DTSTART:20140309T100000
END:DAYLIGHT
BEGIN:STANDARD
TZOFFSETFROM:-0700
TZOFFSETTO:-0800
TZNAME:PST
DTSTART:20141102T090000
END:STANDARD
BEGIN:DAYLIGHT
TZOFFSETFROM:-0800
TZOFFSETTO:-0700
TZNAME:PDT
DTSTART:20150308T100000
END:DAYLIGHT
BEGIN:STANDARD
TZOFFSETFROM:-0700
TZOFFSETTO:-0800
TZNAME:PST
DTSTART:20151101T090000
END:STANDARD
END:VTIMEZONE
BEGIN:VEVENT
DTSTART;TZID=America/Los_Angeles:20140313T073000
DTEND;TZID=America/Los_Angeles:20140313T073000
DTSTAMP:20260421T113030
CREATED:20140715T004844Z
LAST-MODIFIED:20140715T004844Z
UID:592-1394695800-1394695800@tricities.wsu.edu
SUMMARY:GEAR UP: Teacher Training\, CIC 210
DESCRIPTION:Teacher Training workshop for TI MathForward\, through GEAR UP. \ncplemmons@earlyoutreach.wsu.edu
URL:https://tricities.wsu.edu/event/gear-up-teacher-training-cic-210-2/
CATEGORIES:academic
END:VEVENT
BEGIN:VEVENT
DTSTART;TZID=America/Los_Angeles:20140313T111000
DTEND;TZID=America/Los_Angeles:20140313T111000
DTSTAMP:20260421T113030
CREATED:20140715T004845Z
LAST-MODIFIED:20140715T004845Z
UID:22682-1394709000-1394709000@tricities.wsu.edu
SUMMARY:Career Workshop: Get an Internship\, 11:10 a.m.\, West 243
DESCRIPTION:How to Get an Internship:  Learn about free resources available for internship seekers\, where to find openings\, and how to best apply. \nCareer Development Center workshops are available to students on a variety of subjects including: résumés\, cover letters\, interview skills\, choosing a major\, managing your online presence and many more. Our staff is also available for presentations and workshops for your class or group. Admission is free\, no RSVP needed. Show up when you can. \nFor a complete listing of workshops\, visithttp://www.tricity.wsu.edu/careers/events.php
URL:https://tricities.wsu.edu/event/career-workshop-get-an-internship-1110-a-m-west-243/
CATEGORIES:student
END:VEVENT
BEGIN:VEVENT
DTSTART;TZID=America/Los_Angeles:20140313T121000
DTEND;TZID=America/Los_Angeles:20140313T121000
DTSTAMP:20260421T113030
CREATED:20140715T004848Z
LAST-MODIFIED:20140715T004848Z
UID:645-1394712600-1394712600@tricities.wsu.edu
SUMMARY:Provost Search/Campus Input\, 12:10 p.m.\, West 260
DESCRIPTION:Provost search group seeks campus community input  \nThe provost and executive vice president search committee is seeking input from the campus community at a feedback session at 12:10–1:00 p.m. Thursday\, March 13\, in CUE 518 in Pullman and via videoconference at the regional campuses (at WSU Tri-Cities\, the session is in West Building\, Room 260). \nFeedback also is welcome through the search website at provostsearch.wsu.edu.  \nApplications and nominations will be accepted through April 15. To make a nomination\, submit candidate’s name\, position\, and contact information to the search firm engaged to recruit candidates and support the search\, R. William Funk and Associates\, via email to krisha.creal@rwilliamfunk.com.  \nThe search committee for the Washington State University provost and executive vice president wants to know: • The major challenges and opportunities the provost will inherit.• The kind of person best equipped to address the challenges and make the most of the opportunities; for example\, experience\, leadership style\, worldview\, personality\, etc.• Compelling reasons a top national candidate\, who hasn’t considered this position or WSU\, might want to explore this opportunity. \nThe search firm has been building a list of top national candidates. William Funk visited WSU on Monday and Tuesday to gather feedback with the search committee and WSU leaders. Feedback from the Thursday session will be incorporated into the position document.
URL:https://tricities.wsu.edu/event/provost-searchcampus-input-1210-p-m-west-260/
CATEGORIES:university
END:VEVENT
BEGIN:VEVENT
DTSTART;TZID=America/Los_Angeles:20140313T133000
DTEND;TZID=America/Los_Angeles:20140313T133000
DTSTAMP:20260421T113030
CREATED:20140715T004848Z
LAST-MODIFIED:20140715T004848Z
UID:646-1394717400-1394717400@tricities.wsu.edu
SUMMARY:APAC meeting\, 1:30 p.m.\, West 210
DESCRIPTION:APAC meeting guest speaker is Bill Gardner\, Executive Director of Public Safety. \nWe have several openings on our council and we are currently accepting applications until March 30\, so come be a part of a progressive council.  \nWe encourage Administrative Professional employees interested in serving on the council to complete an application form  http://apac.wsu.edu/formtool/Signup/index.castle?formid=1 or visit  the APAC web site\, www.apac.wsu.edu  . \nPhone bridge: 509-335-9445\, meeting ID is 02722# \nGayle AndersonAdministrative Professional Advisory CouncilFaculty SenateWashington State UniversityFrench Administration Bldg #344Pullman\, WA 99164Anderson53@wsu.eduAPAC: 509-335-8344Faculty Senate: 509-335-3424
URL:https://tricities.wsu.edu/event/apac-meeting-130-p-m-west-210-2/
CATEGORIES:administration
END:VEVENT
END:VCALENDAR